{"text_format":"3","workbook":"xlsx","n_sheets":5,"sheets":["요약","장비","소모성","재료","유료"],"not_rendered":{"charts":1,"macros":1},"read":"whole","date_system":"1900"}

{"sheet":"요약","index":0,"n_rows":54,"n_cols":11,"rows_kept":54,"merged":[[4,2,4,10],[6,3,6,4],[6,6,6,7],[6,9,6,10],[35,2,35,3],[43,2,44,2],[46,2,47,2],[49,2,50,2],[52,2,53,2]]}
[]
[]
[]
[]
[null,null,"아이템 테스트 요약"]
[]
[null,null,"문제\n발생률",{"$f":"(E44+E47+E50+E53+E56)/COUNTA(E44,E47,E50,E53,E56)","v":{"v":0.38362068965517243,"d":"38.36%"}},null,"테스트\n진행률",{"$f":"(G44+G47+G50+G53+G56)/COUNTA(G44,G47,G50,G53,G56)","v":{"v":0.9035087719298246,"d":"90.35%"}},null,"테스트\n불가율",{"$f":"(I44+I47+I50+I53+I56)/COUNTA(I44,I47,I50,I53,I56)","v":{"v":0.09649122807017543,"d":"9.65%"}}]
[{"$nulls":3},"테스트대상",{"$f":"(E45+E48+E51+E54+E57)","v":272},"테스트정상",{"$f":"(G45+G48+G51+G54+G57)","v":130},"테스트불가",{"$f":"(I45+I48+I51+I54+I57)","v":31},"버그케이스",{"$f":"(K45+K48+K51+K54+K57)","v":89}]
[{"$nulls":3},"미진행",{"$f":"E8-G8-I8-K8","v":22},"문제발생",{"$f":"I8+K8","v":120}]
{"$rows_empty":26}
[null,null,"테스트 관련 특이사항"]
{"$rows_empty":7}
[null,null,"장비","문제발생율",{"$f":"IF(장비!C2<>0,(장비!C4+장비!C6)/장비!C2,0)","v":{"v":0.6666666666666666,"d":"66.67%"}},"테스트진행률",{"$f":"IF(장비!C2<>0,(장비!C2-장비!C5)/장비!C2,0)","v":{"v":1,"d":"100.00%"}},"테스트불가율",{"$f":"IF(장비!C2<>0,장비!C5/장비!C2,0)","v":{"v":0,"d":"0.00%"}}]
[{"$nulls":3},"테스트대상",{"$f":"장비!C2","v":57},"테스트정상",{"$f":"장비!C3","v":19},"테스트불가",{"$f":"장비!C4","v":16},"버그케이스",{"$f":"장비!C6","v":22}]
[]
[null,null,"소모성","문제발생율",{"$f":"IF(소모성!C2<>0,(소모성!C4+소모성!C6)/소모성!C2,0)","v":{"v":0.3333333333333333,"d":"33.33%"}},"테스트진행률",{"$f":"IF(소모성!C2<>0,(소모성!C2-소모성!C5)/소모성!C2,0)","v":{"v":0.6140350877192983,"d":"61.40%"}},"테스트불가율",{"$f":"IF(소모성!C2<>0,소모성!C5/소모성!C2,0)","v":{"v":0.38596491228070173,"d":"38.60%"}}]
[{"$nulls":3},"테스트대상",{"$f":"소모성!C2","v":57},"테스트정상",{"$f":"소모성!C3","v":16},"테스트불가",{"$f":"소모성!C4","v":0},"버그케이스",{"$f":"소모성!C6","v":19}]
[]
[null,null,"재료","문제발생율",{"$f":"IF(재료!C2<>0,(재료!C4+재료!C6)/재료!C2,0)","v":{"v":0.39655172413793105,"d":"39.66%"}},"테스트진행률",{"$f":"IF(재료!C2<>0,(재료!C2-재료!C5)/재료!C2,0)","v":{"v":1,"d":"100.00%"}},"테스트불가율",{"$f":"IF(재료!C2<>0,재료!C5/재료!C2,0)","v":{"v":0,"d":"0.00%"}}]
[{"$nulls":3},"테스트대상",{"$f":"재료!C2","v":58},"테스트정상",{"$f":"재료!C3","v":35},"테스트불가",{"$f":"재료!C4","v":15},"버그케이스",{"$f":"재료!C6","v":8}]
[]
[null,null,"유료","문제발생율",{"$f":"IF(유료!C2<>0,(유료!C4+재료!C6)/재료!C2,0)","v":{"v":0.13793103448275862,"d":"13.79%"}},"테스트진행률",{"$f":"IF(유료!C2<>0,(재료!C2-재료!C5)/재료!C2,0)","v":{"v":1,"d":"100.00%"}},"테스트불가율",{"$f":"IF(유료!C2<>0,유료!C5/재료!C2,0)","v":{"v":0,"d":"0.00%"}}]
[{"$nulls":3},"테스트대상",{"$f":"유료!C2","v":100},"테스트정상",{"$f":"유료!C3","v":60},"테스트불가",{"$f":"유료!C4","v":0},"버그케이스",{"$f":"유료!C6","v":40}]

{"sheet":"장비","index":1,"n_rows":23,"n_cols":7,"rows_kept":23}
[]
[null,"전체",{"$f":"SUMIFS($F$10:$F$65480,$G$10:$G$65480, \"o\")+SUMIFS($F$10:$F$65480,$G$10:$G$65480, \"x\")+SUMIFS($F$10:$F$65480,$G$10:$G$65480, \"!\")+SUMIFS($F$10:$F$65480,$G$10:$G$65480, \"\")","v":57}]
[null,"통과",{"$f":"SUMIFS($F$10:$F$65480,$G$10:$G$65480, \"o\")","v":19}]
[null,"불가",{"$f":"SUMIFS($F$10:$F$65480,$G$10:$G$65480, \"!\")","v":16}]
[null,"미진행",{"$f":"SUMIFS($F$10:$F$65480,$G$10:$G$65480, \"\")","v":0}]
[null,"버그",{"$f":"SUMIFS($F$10:$F$65480,$G$10:$G$65480, \"x\")","v":22}]
[]
[null,"검증 :","2011-02-21"]
[null,"대분류","중분류",null,"소분류","가중치","결과"]
[null,"캐릭터","장비명","외형 및 아이콘 정상 여부",null,16,"!"]
[{"$nulls":4},"아이콘 모양이 정상인가"]
[{"$nulls":4},"이 아이템에 맞는 아이콘인가",null,"!"]
[{"$nulls":4},"아이콘 해상도가 정상인가"]
[{"$nulls":4},"아이템 장착시 외관에 문제가 없는가",null,"o"]
[{"$nulls":3},"사용 및 능력치 정상 여부",null,19,"o"]
[{"$nulls":4},"레벨 제한 적용 여부",null,"o"]
[{"$nulls":4},"장착시 능력치 적용 여부",null,"o"]
[{"$nulls":4},"해제시 능력치 재 적용 여부",null,"o"]
[null,null,"장비셋트명","셋트 개수에 따른 능력치 적용 여부",null,22,"x"]
[{"$nulls":4},"1개만 착용했을 때 능력치 적용 여부",null,"o"]
[{"$nulls":4},"2개만 착용했을 때 능력치 적용 여부",null,"o"]
[{"$nulls":4},"모두 착용했을 때 능력치 적용 여부",null,"o"]
[{"$nulls":4},"착용 해제했을 때 능력치 재 적용 여부",null,"x"]

{"sheet":"소모성","index":2,"n_rows":24,"n_cols":7,"rows_kept":24}
[]
[null,"전체",{"$f":"SUMIFS($F$10:$F$65504,$G$10:$G$65504, \"o\")+SUMIFS($F$10:$F$65504,$G$10:$G$65504, \"x\")+SUMIFS($F$10:$F$65504,$G$10:$G$65504, \"!\")+SUMIFS($F$10:$F$65504,$G$10:$G$65504, \"\")","v":57}]
[null,"통과",{"$f":"SUMIFS($F$10:$F$65504,$G$10:$G$65504, \"o\")","v":16}]
[null,"불가",{"$f":"SUMIFS($F$10:$F$65504,$G$10:$G$65504, \"!\")","v":0}]
[null,"미진행",{"$f":"SUMIFS($F$10:$F$65504,$G$10:$G$65504, \"\")","v":22}]
[null,"버그",{"$f":"SUMIFS($F$10:$F$65504,$G$10:$G$65504, \"x\")","v":19}]
[]
[]
[null,"대분류","중분류",null,"소분류","가중치","결과"]
[null,"종류(체/마)","아이템명","아이템 정보 정상여부",null,16,"o"]
[{"$nulls":4},"아이템에 대한 설명이 정상적인가",null,"o"]
[{"$nulls":4},"아이템의 성능에 대한 설명이 정상적인가",null,"o"]
[{"$nulls":4},"아이템의 아이콘이 정상적으로 적용되어 있는가",null,"o"]
[{"$nulls":3},"아이템 사용 정상여부",null,19,"x"]
[{"$nulls":4},"아이템을 사용할 수 있는가 ",null,"o"]
[{"$nulls":4},"아이템을 사용하면 정상적으로 소모되는가",null,"o"]
[{"$nulls":4},"아이템에 표시된 능력이 적용되는가"]
[{"$nulls":4},"아이템에 표시된 시간 동안 적용되는가",null,"x"]
[{"$nulls":4},"아이템의 효과가 종료되면 원래의 능력치로 돌아가는가",null,"o"]
[{"$nulls":3},"인벤토리 관련 사항이 정상인가",null,22]
[{"$nulls":4},"아이템이 기획된 숫자대로 스택되는가"]
[{"$nulls":4},"스택 숫자를 넘어서면 자동적으로 인벤토리의 다른 위치로 스택되는가"]
[{"$nulls":4},"판매가능 아이템과 판매불가 아이템이 자동으로 구분되어 스택되는가"]
[{"$nulls":4},"판매가능 아이템과 판매불가 아이템은 서로 섞여서 스택되지 않는가"]

{"sheet":"재료","index":3,"n_rows":25,"n_cols":7,"rows_kept":25}
[]
[null,"전체",{"$f":"SUMIFS($F$10:$F$65483,$G$10:$G$65483, \"o\")+SUMIFS($F$10:$F$65483,$G$10:$G$65483, \"x\")+SUMIFS($F$10:$F$65483,$G$10:$G$65483, \"!\")+SUMIFS($F$10:$F$65483,$G$10:$G$65483, \"\")","v":58}]
[null,"통과",{"$f":"SUMIFS($F$10:$F$65483,$G$10:$G$65483, \"o\")","v":35}]
[null,"불가",{"$f":"SUMIFS($F$10:$F$65483,$G$10:$G$65483, \"!\")","v":15}]
[null,"미진행",{"$f":"SUMIFS($F$10:$F$65483,$G$10:$G$65483, \"\")","v":0}]
[null,"버그",{"$f":"SUMIFS($F$10:$F$65483,$G$10:$G$65483, \"x\")","v":8}]
[]
[]
[null,"대분류","중분류",null,"소분류","가중치","결과"]
[null,"재료구분","재료명","아이콘 및 설명 정상여부",null,8,"x"]
[{"$nulls":4},"아이콘 모양이 정상인가",null,"o"]
[{"$nulls":4},"아이콘 해상도가 정상인가",null,"x"]
[{"$nulls":4},"아이템에 대한 설명이 정상적으로 표시되는가"]
[{"$nulls":3},"아이템 스택 정상여부",null,15,"!"]
[{"$nulls":4},"아이템이 기획된 숫자대로 스택되는가",null,"o"]
[{"$nulls":4},"스택 숫자를 넘어서면 자동적으로 인벤토리의 다른 위치로 스택되는가",null,"o"]
[{"$nulls":4},"판매가능 아이템과 판매불가 아이템이 자동으로 구분되어 스택되는가",null,"!"]
[{"$nulls":4},"판매가능 아이템과 판매불가 아이템은 서로 섞여서 스택되지 않는가",null,"x"]
[{"$nulls":3},"아이템 생산 관련 정상 여부",null,15,"o"]
[{"$nulls":4},"관련 아이템을 생산하고 나면 정상적으로 소모되는가",null,"o"]
[{"$nulls":4},"인벤토리에 복수 칸 이상에 나뉘어 있을 경우 생산시 정상적으로 소모되는가",null,"o"]
[{"$nulls":3},"판매관련 정상 여부",null,20,"o"]
[{"$nulls":4},"NPC에게 표시된 가격대로 팔수 있는가",null,"o"]
[{"$nulls":4},"아이템을 팔았을 때 표시된 금액이 소지금에 들어오는가",null,"o"]
[{"$nulls":4},"아이템 구매가격이 NPC에게 팔수 있는 가격보다 비싼가",null,"o"]

{"sheet":"유료","index":4,"n_rows":38,"n_cols":7,"rows_kept":38}
[]
[null,"전체",{"$f":"SUMIFS($F$10:$F$65505,$G$10:$G$65505, \"o\")+SUMIFS($F$10:$F$65505,$G$10:$G$65505, \"x\")+SUMIFS($F$10:$F$65505,$G$10:$G$65505, \"!\")+SUMIFS($F$10:$F$65505,$G$10:$G$65505, \"\")","v":100}]
[null,"통과",{"$f":"SUMIFS($F$10:$F$65505,$G$10:$G$65505, \"o\")","v":60}]
[null,"불가",{"$f":"SUMIFS($F$10:$F$65505,$G$10:$G$65505, \"!\")","v":0}]
[null,"미진행",{"$f":"SUMIFS($F$10:$F$65505,$G$10:$G$65505, \"\")","v":0}]
[null,"버그",{"$f":"SUMIFS($F$10:$F$65505,$G$10:$G$65505, \"x\")","v":40}]
[]
[]
[null,"대분류","중분류",null,"소분류","가중치","결과"]
[null,"종류","소모성","아이템 정보 정상여부",null,10,"o"]
[{"$nulls":4},"아이템에 대한 설명이 정상적인가",null,"o"]
[{"$nulls":4},"아이템의 성능에 대한 설명이 정상적인가",null,"o"]
[{"$nulls":4},"아이템의 아이콘이 정상적으로 적용되어 있는가",null,"o"]
[{"$nulls":3},"아이템 사용 정상여부",null,20,"x"]
[{"$nulls":4},"아이템을 사용할 수 있는가 ",null,"o"]
[{"$nulls":4},"아이템을 사용하면 정상적으로 소모되는가",null,"x"]
[{"$nulls":4},"아이템에 표시된 능력이 적용되는가",null,"x"]
[{"$nulls":4},"아이템에 표시된 시간 동안 적용되는가",null,"o"]
[{"$nulls":4},"아이템의 효과가 종료되면 원래의 능력치로 돌아가는가",null,"o"]
[{"$nulls":3},"인벤토리 관련 사항이 정상인가",null,15,"o"]
[{"$nulls":4},"아이템이 기획된 숫자대로 스택되는가",null,"o"]
[{"$nulls":4},"스택 숫자를 넘어서면 자동적으로 인벤토리의 다른 위치로 스택되는가",null,"o"]
[{"$nulls":4},"판매가능 아이템과 판매불가 아이템이 자동으로 구분되어 스택되는가",null,"o"]
[{"$nulls":4},"판매가능 아이템과 판매불가 아이템은 서로 섞여서 스택되지 않는가",null,"o"]
[null,null,"장비성","외형 및 아이콘 정상 여부",null,15,"o"]
[{"$nulls":4},"아이콘 모양이 정상인가",null,"o"]
[{"$nulls":4},"이 아이템에 맞는 아이콘인가",null,"o"]
[{"$nulls":4},"아이콘 해상도가 정상인가",null,"o"]
[{"$nulls":4},"아이템 장착시 외관에 문제가 없는가",null,"o"]
[{"$nulls":3},"사용 및 능력치 정상 여부",null,20,"o"]
[{"$nulls":4},"레벨 제한 적용 여부",null,"o"]
[{"$nulls":4},"장착시 능력치 적용 여부",null,"o"]
[{"$nulls":4},"해제시 능력치 재 적용 여부",null,"o"]
[{"$nulls":3},"캐시관련 정상여부",null,20,"x"]
[{"$nulls":4},"가격이 정상적으로 설정되어 있는가",null,"o"]
[{"$nulls":4},"구매시 표시된 가격이 소지금에서 줄어드는가",null,"x"]
[{"$nulls":4},"캐시 아이템의 기간이 정상적으로 표시되는가",null,"x"]
[{"$nulls":4},"캐시 아이템의 기간이 정상적으로 적용되는가",null,"o"]